BEGIN:VCALENDAR
VERSION:2.0
PRODID:Events Booking
BEGIN:VEVENT
UID:69ed37b6e3f81
SUMMARY:Online Zoom Activity: Stay Creative & Connected: Thursday 1.30pm -2
 .30pm with Rosie: All Ages
DESCRIPTION:
DTSTART:20200820T123000Z
DTEND:20200820T133000Z
DTSTAMP:20260425T225254Z
ORGANIZER;CN=ILEAP Charity:MAILTO:sparkle@ileap.co.uk
END:VEVENT
END:VCALENDAR