BEGIN:VCALENDAR
VERSION:2.0
PRODID:Events Booking
BEGIN:VEVENT
UID:69ed144d8d38b
SUMMARY:Online Zoom Activity: Stay Creative & Connected: Thursday 1.30pm -2
 .30pm with Rosie: All Ages
DESCRIPTION:
DTSTART:20200806T123000Z
DTEND:20200806T133000Z
DTSTAMP:20260425T202149Z
ORGANIZER;CN=ILEAP Charity:MAILTO:sparkle@ileap.co.uk
END:VEVENT
END:VCALENDAR