BEGIN:VCALENDAR
VERSION:2.0
PRODID:Events Booking
BEGIN:VEVENT
UID:69ecef21e7eca
SUMMARY:Online Zoom Activity: Stay Creative & Connected: Thursday 10.00am -
 11.00am with Lydia
DESCRIPTION:
DTSTART:20200618T090000Z
DTEND:20200618T100000Z
DTSTAMP:20260425T174313Z
ORGANIZER;CN=ILEAP Charity:MAILTO:sparkle@ileap.co.uk
END:VEVENT
END:VCALENDAR