BEGIN:VCALENDAR
VERSION:2.0
PRODID:Events Booking
BEGIN:VEVENT
UID:69ecff542026c
SUMMARY:Online Zoom Activity: Stay Creative & Connected: Thursday 10.00am -
 11.00am with Lydia
DESCRIPTION:
DTSTART:20200702T090000Z
DTEND:20200702T100000Z
DTSTAMP:20260425T185220Z
ORGANIZER;CN=ILEAP Charity:MAILTO:sparkle@ileap.co.uk
END:VEVENT
END:VCALENDAR