BEGIN:VCALENDAR
VERSION:2.0
PRODID:Events Booking
BEGIN:VEVENT
UID:69ed27a019c20
SUMMARY:Online Zoom Activity: Stay Creative & Connected: Thursday 10.00am -
 11.00am with Rosie: All Ages
DESCRIPTION:
DTSTART:20200813T090000Z
DTEND:20200813T100000Z
DTSTAMP:20260425T214416Z
ORGANIZER;CN=ILEAP Charity:MAILTO:sparkle@ileap.co.uk
END:VEVENT
END:VCALENDAR