BEGIN:VCALENDAR
VERSION:2.0
PRODID:Events Booking
BEGIN:VEVENT
UID:69ed3b727e724
SUMMARY:Online Zoom Activity: Stay Creative & Connected: Thursday 10.00am -
 11.00am with Rosie: All Ages
DESCRIPTION:
DTSTART:20200827T090000Z
DTEND:20200827T100000Z
DTSTAMP:20260425T230850Z
ORGANIZER;CN=ILEAP Charity:MAILTO:sparkle@ileap.co.uk
END:VEVENT
END:VCALENDAR