BEGIN:VCALENDAR
VERSION:2.0
PRODID:Events Booking
BEGIN:VEVENT
UID:69ecaf3d3c4e4
SUMMARY:Online Zoom Activity: Stay Creative & Connected: Thursday 10.00am -
 11.00am with Lydia
DESCRIPTION:
DTSTART:20200409T090000Z
DTEND:20200409T100000Z
DTSTAMP:20260425T131037Z
ORGANIZER;CN=ILEAP Charity:MAILTO:sparkle@ileap.co.uk
END:VEVENT
END:VCALENDAR