BEGIN:VCALENDAR
VERSION:2.0
PRODID:Events Booking
BEGIN:VEVENT
UID:69ecef281f002
SUMMARY:Online Zoom Activity: Stay Creative & Connected: Thursday 11.00am -
 12.00pm with Rosie
DESCRIPTION:
DTSTART:20200611T100000Z
DTEND:20200611T110000Z
DTSTAMP:20260425T174320Z
ORGANIZER;CN=ILEAP Charity:MAILTO:sparkle@ileap.co.uk
END:VEVENT
END:VCALENDAR