BEGIN:VCALENDAR
VERSION:2.0
PRODID:Events Booking
BEGIN:VEVENT
UID:69ecf1c7a617c
SUMMARY:Online Zoom Activity: Stay Creative & Connected: Thursday 11.00am -
 12.00pm with Rosie
DESCRIPTION:
DTSTART:20200618T100000Z
DTEND:20200618T110000Z
DTSTAMP:20260425T175431Z
ORGANIZER;CN=ILEAP Charity:MAILTO:sparkle@ileap.co.uk
END:VEVENT
END:VCALENDAR