BEGIN:VCALENDAR
VERSION:2.0
PRODID:Events Booking
BEGIN:VEVENT
UID:69ecb005b08a2
SUMMARY:Online Zoom Activity: Stay Creative & Connected: Thursday 11.00am -
 12.00pm with Rosie
DESCRIPTION:
DTSTART:20200416T103000Z
DTEND:20200416T113000Z
DTSTAMP:20260425T131357Z
ORGANIZER;CN=ILEAP Charity:MAILTO:sparkle@ileap.co.uk
END:VEVENT
END:VCALENDAR