BEGIN:VCALENDAR
VERSION:2.0
PRODID:Events Booking
BEGIN:VEVENT
UID:69ecc766581e4
SUMMARY:Online Zoom Activity: Stay Creative & Connected: Thursday 11.00am -
 12.00pm with Rosie
DESCRIPTION:
DTSTART:20200423T103000Z
DTEND:20200423T113000Z
DTSTAMP:20260425T145342Z
ORGANIZER;CN=ILEAP Charity:MAILTO:sparkle@ileap.co.uk
END:VEVENT
END:VCALENDAR