BEGIN:VCALENDAR
VERSION:2.0
PRODID:Events Booking
BEGIN:VEVENT
UID:69ecff24cbba7
SUMMARY:Online Zoom Activity: Stay Creative & Connected: Thursday 2.30pm -3
 .30pm with Rosie\,
DESCRIPTION:
DTSTART:20200625T133000Z
DTEND:20200625T143000Z
DTSTAMP:20260425T185132Z
ORGANIZER;CN=ILEAP Charity:MAILTO:sparkle@ileap.co.uk
END:VEVENT
END:VCALENDAR