BEGIN:VCALENDAR
VERSION:2.0
PRODID:Events Booking
BEGIN:VEVENT
UID:69ecafb65ea03
SUMMARY:Online Zoom Activity: Stay Creative & Connected: Tuesday 1.00pm -2.
 00pm with Rosie
DESCRIPTION:
DTSTART:20200414T120000Z
DTEND:20200414T130000Z
DTSTAMP:20260425T131238Z
ORGANIZER;CN=ILEAP Charity:MAILTO:sparkle@ileap.co.uk
END:VEVENT
END:VCALENDAR