BEGIN:VCALENDAR
VERSION:2.0
PRODID:Events Booking
BEGIN:VEVENT
UID:69ed275c7e88d
SUMMARY:Online Zoom Activity: Stay Creative & Connected: Tuesday 1.30pm -2.
 30pm with Paisley: All Ages
DESCRIPTION:
DTSTART:20200818T123000Z
DTEND:20200818T133000Z
DTSTAMP:20260425T214308Z
ORGANIZER;CN=ILEAP Charity:MAILTO:sparkle@ileap.co.uk
END:VEVENT
END:VCALENDAR