BEGIN:VCALENDAR
VERSION:2.0
PRODID:Events Booking
BEGIN:VEVENT
UID:69ed147478fa9
SUMMARY:Online Zoom Activity: Stay Creative & Connected: Tuesday 1.30pm -2.
 30pm with Paisley: All Ages
DESCRIPTION:
DTSTART:20200804T123000Z
DTEND:20200804T133000Z
DTSTAMP:20260425T202228Z
ORGANIZER;CN=ILEAP Charity:MAILTO:sparkle@ileap.co.uk
END:VEVENT
END:VCALENDAR