BEGIN:VCALENDAR
VERSION:2.0
PRODID:Events Booking
BEGIN:VEVENT
UID:69ecef26d1780
SUMMARY:Online Zoom Activity: Stay Creative & Connected: Tuesday 10.00am -1
 1.00am with Rosie
DESCRIPTION:
DTSTART:20200616T090000Z
DTEND:20200616T100000Z
DTSTAMP:20260425T174318Z
ORGANIZER;CN=ILEAP Charity:MAILTO:sparkle@ileap.co.uk
END:VEVENT
END:VCALENDAR