BEGIN:VCALENDAR
VERSION:2.0
PRODID:Events Booking
BEGIN:VEVENT
UID:69ecef279107f
SUMMARY:Online Zoom Activity: Stay Creative & Connected: Tuesday 10.00am -1
 1.00am with Rosie
DESCRIPTION:
DTSTART:20200609T090000Z
DTEND:20200609T100000Z
DTSTAMP:20260425T174319Z
ORGANIZER;CN=ILEAP Charity:MAILTO:sparkle@ileap.co.uk
END:VEVENT
END:VCALENDAR