BEGIN:VCALENDAR
VERSION:2.0
PRODID:Events Booking
BEGIN:VEVENT
UID:69ecef2269ee9
SUMMARY:Online Zoom Activity: Stay Creative & Connected: Tuesday 2.30pm -3.
 300m with Rosie 
DESCRIPTION:
DTSTART:20200609T133000Z
DTEND:20200609T143000Z
DTSTAMP:20260425T174314Z
ORGANIZER;CN=ILEAP Charity:MAILTO:sparkle@ileap.co.uk
END:VEVENT
END:VCALENDAR