BEGIN:VCALENDAR
VERSION:2.0
PRODID:Events Booking
BEGIN:VEVENT
UID:69ed3a992e3a9
SUMMARY:Online Zoom Activity: Stay Creative & Connected: Tuesday 10.00am -1
 1.00am with Paisley: All Ages 
DESCRIPTION:
DTSTART:20200825T090000Z
DTEND:20200825T100000Z
DTSTAMP:20260425T230513Z
ORGANIZER;CN=ILEAP Charity:MAILTO:sparkle@ileap.co.uk
END:VEVENT
END:VCALENDAR