BEGIN:VCALENDAR
VERSION:2.0
PRODID:Events Booking
BEGIN:VEVENT
UID:69ed153075fbc
SUMMARY:Online Zoom Activity: Stay Creative & Connected: Tuesday 10.00am -1
 1.00am with Rosie
DESCRIPTION:
DTSTART:20200714T090000Z
DTEND:20200714T100000Z
DTSTAMP:20260425T202536Z
ORGANIZER;CN=ILEAP Charity:MAILTO:sparkle@ileap.co.uk
END:VEVENT
END:VCALENDAR