BEGIN:VCALENDAR
VERSION:2.0
PRODID:Events Booking
BEGIN:VEVENT
UID:69ecdbbe496fc
SUMMARY:Online Zoom Activity: Stay Creative & Connected: Tuesday 10.00am -1
 1.00am with Rosie
DESCRIPTION:
DTSTART:20200512T090000Z
DTEND:20200512T100000Z
DTSTAMP:20260425T162030Z
ORGANIZER;CN=ILEAP Charity:MAILTO:sparkle@ileap.co.uk
END:VEVENT
END:VCALENDAR