BEGIN:VCALENDAR
VERSION:2.0
PRODID:Events Booking
BEGIN:VEVENT
UID:69ecb01bd42da
SUMMARY:Online Zoom Activity: Stay Creative & Connected: Tuesday 11.00am -1
 2.00pm
DESCRIPTION:
DTSTART:20200414T100000Z
DTEND:20200414T110000Z
DTSTAMP:20260425T131419Z
ORGANIZER;CN=ILEAP Charity:MAILTO:sparkle@ileap.co.uk
END:VEVENT
END:VCALENDAR