BEGIN:VCALENDAR
VERSION:2.0
PRODID:Events Booking
BEGIN:VEVENT
UID:69ecaf9ee91a5
SUMMARY:Online Zoom Activity: Stay Creative & Connected: Tuesday 11.00am -1
 2.00pm
DESCRIPTION:
DTSTART:20200407T100000Z
DTEND:20200407T110000Z
DTSTAMP:20260425T131214Z
ORGANIZER;CN=ILEAP Charity:MAILTO:sparkle@ileap.co.uk
END:VEVENT
END:VCALENDAR