BEGIN:VCALENDAR
VERSION:2.0
PRODID:Events Booking
BEGIN:VEVENT
UID:69ecafc6adc8f
SUMMARY:Online Zoom Activity: Stay Creative & Connected: Wednesday 1.30pm -
 2.30pm
DESCRIPTION:
DTSTART:20200415T123000Z
DTEND:20200415T133000Z
DTSTAMP:20260425T131254Z
ORGANIZER;CN=ILEAP Charity:MAILTO:sparkle@ileap.co.uk
END:VEVENT
END:VCALENDAR