BEGIN:VCALENDAR
VERSION:2.0
PRODID:Events Booking
BEGIN:VEVENT
UID:69ecc76060818
SUMMARY:Online Zoom Activity: Stay Creative & Connected: Wednesday 1.30pm -
 2.30pm
DESCRIPTION:
DTSTART:20200429T123000Z
DTEND:20200429T133000Z
DTSTAMP:20260425T145336Z
ORGANIZER;CN=ILEAP Charity:MAILTO:sparkle@ileap.co.uk
END:VEVENT
END:VCALENDAR