BEGIN:VCALENDAR
VERSION:2.0
PRODID:Events Booking
BEGIN:VEVENT
UID:69ed390ec9ed3
SUMMARY:Online Zoom Activity: Stay Creative & Connected: Wednesday 1.30pm -
 2.30pm with Rosie: All Ages
DESCRIPTION:
DTSTART:20200826T123000Z
DTEND:20200826T133000Z
DTSTAMP:20260425T225838Z
ORGANIZER;CN=ILEAP Charity:MAILTO:sparkle@ileap.co.uk
END:VEVENT
END:VCALENDAR