BEGIN:VCALENDAR
VERSION:2.0
PRODID:Events Booking
BEGIN:VEVENT
UID:69ed14737adee
SUMMARY:Online Zoom Activity: Stay Creative & Connected: Wednesday 1.30pm -
 2.30pm with Rosie: All Ages
DESCRIPTION:
DTSTART:20200805T123000Z
DTEND:20200805T133000Z
DTSTAMP:20260425T202227Z
ORGANIZER;CN=ILEAP Charity:MAILTO:sparkle@ileap.co.uk
END:VEVENT
END:VCALENDAR