BEGIN:VCALENDAR
VERSION:2.0
PRODID:Events Booking
BEGIN:VEVENT
UID:69ed15330c681
SUMMARY:Online Zoom Activity: Stay Creative & Connected: Wednesday 10.00am 
 -11.00am with Lydia
DESCRIPTION:
DTSTART:20200715T090000Z
DTEND:20200715T100000Z
DTSTAMP:20260425T202539Z
ORGANIZER;CN=ILEAP Charity:MAILTO:sparkle@ileap.co.uk
END:VEVENT
END:VCALENDAR