BEGIN:VCALENDAR
VERSION:2.0
PRODID:Events Booking
BEGIN:VEVENT
UID:69ecedad844f4
SUMMARY:Online Zoom Activity: Stay Creative & Connected: Wednesday 10.00am 
 -11.00am with Lydia
DESCRIPTION:
DTSTART:20200610T090000Z
DTEND:20200610T100000Z
DTSTAMP:20260425T173701Z
ORGANIZER;CN=ILEAP Charity:MAILTO:sparkle@ileap.co.uk
END:VEVENT
END:VCALENDAR