BEGIN:VCALENDAR
VERSION:2.0
PRODID:Events Booking
BEGIN:VEVENT
UID:69ed27b04d808
SUMMARY:Online Zoom Activity: Stay Creative & Connected: Wednesday 10.00am 
 -11.00am with Rosie: All Ages
DESCRIPTION:
DTSTART:20200812T090000Z
DTEND:20200812T100000Z
DTSTAMP:20260425T214432Z
ORGANIZER;CN=ILEAP Charity:MAILTO:sparkle@ileap.co.uk
END:VEVENT
END:VCALENDAR