BEGIN:VCALENDAR
VERSION:2.0
PRODID:Events Booking
BEGIN:VEVENT
UID:69ecdbd39514f
SUMMARY:Online Zoom Activity: Stay Creative & Connected: Wednesday 10.30am 
 -11.30am with Lydia
DESCRIPTION:
DTSTART:20200513T093000Z
DTEND:20200513T103000Z
DTSTAMP:20260425T162051Z
ORGANIZER;CN=ILEAP Charity:MAILTO:sparkle@ileap.co.uk
END:VEVENT
END:VCALENDAR