BEGIN:VCALENDAR
VERSION:2.0
PRODID:Events Booking
BEGIN:VEVENT
UID:69ecdbd41a134
SUMMARY:Online Zoom Activity: Stay Creative & Connected: Wednesday 10.30am 
 -11.30am with Lydia
DESCRIPTION:
DTSTART:20200527T093000Z
DTEND:20200527T103000Z
DTSTAMP:20260425T162052Z
ORGANIZER;CN=ILEAP Charity:MAILTO:sparkle@ileap.co.uk
END:VEVENT
END:VCALENDAR