BEGIN:VCALENDAR
VERSION:2.0
PRODID:Events Booking
BEGIN:VEVENT
UID:69ecc7661f44a
SUMMARY:Online Zoom Activity: Stay Creative & Connected: Wednesday 10.30am 
 -11.30am with Lydia
DESCRIPTION:
DTSTART:20200429T093000Z
DTEND:20200429T103000Z
DTSTAMP:20260425T145342Z
ORGANIZER;CN=ILEAP Charity:MAILTO:sparkle@ileap.co.uk
END:VEVENT
END:VCALENDAR