BEGIN:VCALENDAR
VERSION:2.0
PRODID:Events Booking
BEGIN:VEVENT
UID:69ecb00bd1ac8
SUMMARY:Online Zoom Activity: Stay Creative & Connected: Wednesday 11.30am 
 -12.30pm 
DESCRIPTION:
DTSTART:20200415T103000Z
DTEND:20200415T113000Z
DTSTAMP:20260425T131403Z
ORGANIZER;CN=ILEAP Charity:MAILTO:sparkle@ileap.co.uk
END:VEVENT
END:VCALENDAR