BEGIN:VCALENDAR
VERSION:2.0
PRODID:Events Booking
BEGIN:VEVENT
UID:69ecaf9e437c8
SUMMARY:Online Zoom Activity: Stay Creative & Connected: Wednesday 11.30am 
 -12.30pm 
DESCRIPTION:
DTSTART:20200408T103000Z
DTEND:20200408T113000Z
DTSTAMP:20260425T131214Z
ORGANIZER;CN=ILEAP Charity:MAILTO:sparkle@ileap.co.uk
END:VEVENT
END:VCALENDAR