BEGIN:VCALENDAR
VERSION:2.0
PRODID:Events Booking
BEGIN:VEVENT
UID:69ecdbbcc68bf
SUMMARY:Online Zoom Activity: Story Time Thursday\, All Ages 
DESCRIPTION:
DTSTART:20200514T153000Z
DTEND:20200514T161500Z
DTSTAMP:20260425T162028Z
ORGANIZER;CN=ILEAP Charity:MAILTO:sparkle@ileap.co.uk
END:VEVENT
END:VCALENDAR