BEGIN:VCALENDAR
VERSION:2.0
PRODID:Events Booking
BEGIN:VEVENT
UID:69eced569733f
SUMMARY:Online Zoom Activity: Story Time Thursday\, All Ages 
DESCRIPTION:
DTSTART:20200528T153000Z
DTEND:20200528T161500Z
DTSTAMP:20260425T173534Z
ORGANIZER;CN=ILEAP Charity:MAILTO:sparkle@ileap.co.uk
END:VEVENT
END:VCALENDAR