BEGIN:VCALENDAR
VERSION:2.0
PRODID:Events Booking
BEGIN:VEVENT
UID:69ecc6d5099f5
SUMMARY:Online Zoom Activity: Story Time Thursday\, All Ages 
DESCRIPTION:
DTSTART:20200507T153000Z
DTEND:20200507T161500Z
DTSTAMP:20260425T145117Z
ORGANIZER;CN=ILEAP Charity:MAILTO:sparkle@ileap.co.uk
END:VEVENT
END:VCALENDAR