BEGIN:VCALENDAR
VERSION:2.0
PRODID:Events Booking
BEGIN:VEVENT
UID:69ed27397242f
SUMMARY:Online Zoom Activity: Thursday Art Apart: All Ages
DESCRIPTION:
DTSTART:20200813T140000Z
DTEND:20200813T150000Z
DTSTAMP:20260425T214233Z
ORGANIZER;CN=ILEAP Charity:MAILTO:sparkle@ileap.co.uk
END:VEVENT
END:VCALENDAR