BEGIN:VCALENDAR
VERSION:2.0
PRODID:Events Booking
BEGIN:VEVENT
UID:69ed37a2a9c10
SUMMARY:Online Zoom Activity: Thursday Art Apart: All Ages
DESCRIPTION:
DTSTART:20200820T140000Z
DTEND:20200820T150000Z
DTSTAMP:20260425T225234Z
ORGANIZER;CN=ILEAP Charity:MAILTO:sparkle@ileap.co.uk
END:VEVENT
END:VCALENDAR