BEGIN:VCALENDAR
VERSION:2.0
PRODID:Events Booking
BEGIN:VEVENT
UID:69ed37a0eb4dd
SUMMARY:Online Zoom Activity: Thursday Art Apart: All Ages
DESCRIPTION:
DTSTART:20200827T140000Z
DTEND:20200827T150000Z
DTSTAMP:20260425T225232Z
ORGANIZER;CN=ILEAP Charity:MAILTO:sparkle@ileap.co.uk
END:VEVENT
END:VCALENDAR