BEGIN:VCALENDAR
VERSION:2.0
PRODID:Events Booking
BEGIN:VEVENT
UID:69ed4b73ca5d9
SUMMARY:Online Zoom Activity: Thursday Art Apart: All Ages
DESCRIPTION:
DTSTART:20200903T140000Z
DTEND:20200903T150000Z
DTSTAMP:20260426T001707Z
ORGANIZER;CN=ILEAP Charity:MAILTO:sparkle@ileap.co.uk
END:VEVENT
END:VCALENDAR