BEGIN:VCALENDAR
VERSION:2.0
PRODID:Events Booking
BEGIN:VEVENT
UID:69ed4b7998672
SUMMARY:Online Zoom Activity: Tuesday Drama Workshop 12 years and over
DESCRIPTION:
DTSTART:20200901T160000Z
DTEND:20200901T170000Z
DTSTAMP:20260426T001713Z
ORGANIZER;CN=ILEAP Charity:MAILTO:sparkle@ileap.co.uk
END:VEVENT
END:VCALENDAR