BEGIN:VCALENDAR
VERSION:2.0
PRODID:Events Booking
BEGIN:VEVENT
UID:69ed273936d7a
SUMMARY:Online Zoom Activity: Tuesday Drama Workshop 12 years and over
DESCRIPTION:
DTSTART:20200818T160000Z
DTEND:20200818T170000Z
DTSTAMP:20260425T214233Z
ORGANIZER;CN=ILEAP Charity:MAILTO:sparkle@ileap.co.uk
END:VEVENT
END:VCALENDAR