BEGIN:VCALENDAR
VERSION:2.0
PRODID:Events Booking
BEGIN:VEVENT
UID:69ed37b762cbe
SUMMARY:Online Zoom Activity: Tuesday Drama Workshop 12 years and over
DESCRIPTION:
DTSTART:20200825T160000Z
DTEND:20200825T170000Z
DTSTAMP:20260425T225255Z
ORGANIZER;CN=ILEAP Charity:MAILTO:sparkle@ileap.co.uk
END:VEVENT
END:VCALENDAR