BEGIN:VCALENDAR
VERSION:2.0
PRODID:Events Booking
BEGIN:VEVENT
UID:69ed144e11169
SUMMARY:Online Zoom Activity: Tuesday Drama Workshop 12 years and over
DESCRIPTION:
DTSTART:20200804T160000Z
DTEND:20200804T170000Z
DTSTAMP:20260425T202150Z
ORGANIZER;CN=ILEAP Charity:MAILTO:sparkle@ileap.co.uk
END:VEVENT
END:VCALENDAR