BEGIN:VCALENDAR
VERSION:2.0
PRODID:Events Booking
BEGIN:VEVENT
UID:69ecdbd123d8b
SUMMARY:Online Zoom Activity: Tuesday Drama Workshop\, 8 years and over 
DESCRIPTION:
DTSTART:20200526T153000Z
DTEND:20200526T163000Z
DTSTAMP:20260425T162049Z
ORGANIZER;CN=ILEAP Charity:MAILTO:sparkle@ileap.co.uk
END:VEVENT
END:VCALENDAR