BEGIN:VCALENDAR
VERSION:2.0
PRODID:Events Booking
BEGIN:VEVENT
UID:69ecc6f518335
SUMMARY:Online Zoom Activity: Tuesday Drama Workshop\, 8 years and over 
DESCRIPTION:
DTSTART:20200505T153000Z
DTEND:20200505T163000Z
DTSTAMP:20260425T145149Z
ORGANIZER;CN=ILEAP Charity:MAILTO:sparkle@ileap.co.uk
END:VEVENT
END:VCALENDAR