BEGIN:VCALENDAR
VERSION:2.0
PRODID:Events Booking
BEGIN:VEVENT
UID:69ecb150ca13d
SUMMARY:Online Zoom Activity
DESCRIPTION:
DTSTART:20200331T130000Z
DTEND:20200331T134000Z
DTSTAMP:20260425T131928Z
ORGANIZER;CN=ILEAP Charity:MAILTO:sparkle@ileap.co.uk
END:VEVENT
END:VCALENDAR