BEGIN:VCALENDAR
VERSION:2.0
PRODID:Events Booking
BEGIN:VEVENT
UID:69ed27709321e
SUMMARY:Online Zoom Dance with Nicola\, 12 years and over 
DESCRIPTION:
DTSTART:20200814T090000Z
DTEND:20200814T100000Z
DTSTAMP:20260425T214328Z
ORGANIZER;CN=ILEAP Charity:MAILTO:sparkle@ileap.co.uk
END:VEVENT
END:VCALENDAR